BEGIN:VCALENDAR
VERSION:2.0
PRODID:SchoolNow
CALSCALE:GREGORIAN
BEGIN:VEVENT
UID:c5646160-d9b2-11ef-a0bc-0a58a9feac02
DTSTAMP:20250123T175211Z
SUMMARY:School Committee Budget Sub Committee Meeting - REMOTE MEETING ONLI
 NE
URL;VALUE=URI:https://www.norwood.k12.ma.us/sc/calendar/7359011/school-comm
 ittee-budget-sub-committee-meeting-remote-meeting-online
DTSTART:20250127T170000Z
DTEND:20250127T183000Z
END:VEVENT
END:VCALENDAR
