BEGIN:VCALENDAR
VERSION:2.0
PRODID:SchoolNow
CALSCALE:GREGORIAN
BEGIN:VEVENT
UID:59d26e76-dd7a-11ef-b9da-0a58a9feac02
DTSTAMP:20250128T131823Z
SUMMARY:School Committee - Executive Session
URL;VALUE=URI:https://www.norwood.k12.ma.us/sc/calendar/7384733/school-comm
 ittee-executive-session
DTSTART:20250129T230000Z
DTEND:20250130T000000Z
END:VEVENT
END:VCALENDAR
