BEGIN:VCALENDAR
VERSION:2.0
PRODID:SchoolNow
CALSCALE:GREGORIAN
BEGIN:VEVENT
UID:108c7eaa-df0a-11ef-be4c-0affc22fa523
DTSTAMP:20250130T125939Z
SUMMARY:School Committee Policy Sub Committee Meeting - REMOTE MEETING ONLI
 NE
URL;VALUE=URI:https://www.norwood.k12.ma.us/sc/calendar/7397321/school-comm
 ittee-policy-sub-committee-meeting-remote-meeting-online
DTSTART:20250131T193000Z
DTEND:20250131T203000Z
END:VEVENT
END:VCALENDAR
