BEGIN:VCALENDAR
VERSION:2.0
PRODID:SchoolNow
CALSCALE:GREGORIAN
BEGIN:VEVENT
UID:73c276a6-df4a-11ef-b327-0240e9ffd399
DTSTAMP:20250130T204033Z
SUMMARY:School Committee - Union 50 Negotiations
URL;VALUE=URI:https://www.norwood.k12.ma.us/sc/calendar/7398786/school-comm
 ittee-union-50-negotiations
DTSTART:20250203T200000Z
DTEND:20250203T210000Z
END:VEVENT
END:VCALENDAR
