BEGIN:VCALENDAR
VERSION:2.0
PRODID:SchoolNow
CALSCALE:GREGORIAN
BEGIN:VEVENT
UID:ac37dba8-e88b-11ef-a861-0a58a9feac02
DTSTAMP:20250211T152005Z
SUMMARY:School Committee Executive Session
URL;VALUE=URI:https://www.norwood.k12.ma.us/sc/calendar/7452860/school-comm
 ittee-executive-session
DTSTART:20250212T230000Z
DTEND:20250213T000000Z
END:VEVENT
END:VCALENDAR
