BEGIN:VCALENDAR
VERSION:2.0
PRODID:SchoolNow
CALSCALE:GREGORIAN
BEGIN:VEVENT
UID:12f059a0-e8a6-11ef-9c99-0a58a9feac02
DTSTAMP:20250211T184615Z
SUMMARY:School Committee Budget Sub Committee - REMOTE MEETING ONLINE
URL;VALUE=URI:https://www.norwood.k12.ma.us/sc/calendar/7452998/school-comm
 ittee-budget-sub-committee
DTSTART:20250213T180000Z
DTEND:20250213T200000Z
END:VEVENT
END:VCALENDAR
