BEGIN:VCALENDAR
VERSION:2.0
PRODID:SchoolNow
CALSCALE:GREGORIAN
BEGIN:VEVENT
UID:ebe83bd6-ea0b-11ef-9649-0a58a9feac02
DTSTAMP:20250213T131039Z
SUMMARY:School Commitee Policy Sub Commitee Meeting - REMOTE MEETING ONLINE
URL;VALUE=URI:https://www.norwood.k12.ma.us/sc/calendar/7462807/school-comm
 itee-policy-sub-commitee-meeting-remote-meeting-online
DTSTART:20250214T193000Z
DTEND:20250214T203000Z
END:VEVENT
END:VCALENDAR
