BEGIN:VCALENDAR
VERSION:2.0
PRODID:SchoolNow
CALSCALE:GREGORIAN
BEGIN:VEVENT
UID:2400d4fa-eae4-11ef-b75e-0296fcd78501
DTSTAMP:20250214T145824Z
SUMMARY:School Committee Meeting - REMOTE MEETING ONLINE - See Schedule Pag
 e for Details
URL;VALUE=URI:https://www.norwood.k12.ma.us/sc/calendar/7468587/school-comm
 ittee-meeting-remote-meeting-online-see-schedule-page-for-details
DTSTART:20250225T210000Z
DTEND:20250225T223000Z
END:VEVENT
END:VCALENDAR
