BEGIN:VCALENDAR
VERSION:2.0
PRODID:SchoolNow
CALSCALE:GREGORIAN
BEGIN:VEVENT
UID:47e53d50-f473-11ef-bc82-0a58a9feac02
DTSTAMP:20250226T185543Z
SUMMARY:School Committee Budget Sub Committee Meeting - REMOTE MEETING ONLI
 NE
URL;VALUE=URI:https://www.norwood.k12.ma.us/sc/calendar/7555856/school-comm
 ittee-budget-sub-committee-meeting-remote-meeting-online
DTSTART:20250228T190000Z
DTEND:20250228T210000Z
END:VEVENT
END:VCALENDAR
