BEGIN:VCALENDAR
VERSION:2.0
PRODID:SchoolNow
CALSCALE:GREGORIAN
BEGIN:VEVENT
UID:ec89de82-fb5e-11ef-8bf4-0affea283dcb
DTSTAMP:20250307T141738Z
SUMMARY:School Committee Student Advisory Council - Norwood High School
URL;VALUE=URI:https://www.norwood.k12.ma.us/sc/calendar/7624248/school-comm
 ittee-student-advisory-committee-norwood-high-school-clone-clone
DTSTART:20250311T142200Z
DTEND:20250311T151900Z
END:VEVENT
END:VCALENDAR
