BEGIN:VCALENDAR
VERSION:2.0
PRODID:SchoolNow
CALSCALE:GREGORIAN
BEGIN:VEVENT
UID:75404564-002c-11f0-9489-0a58a9feac02
DTSTAMP:20250313T165859Z
SUMMARY:School Committee Budget Sub Committee Meeting - REMOTE MEETING ONLI
 NE
URL;VALUE=URI:https://www.norwood.k12.ma.us/sc/calendar/7674445/school-comm
 ittee-budget-sub-committee-meeting-remote-meeting-online-clone
DTSTART:20250317T150000Z
DTEND:20250317T170000Z
END:VEVENT
END:VCALENDAR
