BEGIN:VCALENDAR
VERSION:2.0
PRODID:SchoolNow
CALSCALE:GREGORIAN
BEGIN:VEVENT
UID:9dbf1136-0596-11f0-8dbb-0affd7e96313
DTSTAMP:20250320T142129Z
SUMMARY:School Committee Budget Sub Committee Meeting - REMOTE MEETING ONLI
 NE
URL;VALUE=URI:https://www.norwood.k12.ma.us/sc/calendar/7731484/school-comm
 ittee-budget-sub-committee-meeting-remote-meeting-online-clone
DTSTART:20250324T150000Z
DTEND:20250324T160000Z
END:VEVENT
END:VCALENDAR
