BEGIN:VCALENDAR
VERSION:2.0
PRODID:SchoolNow
CALSCALE:GREGORIAN
BEGIN:VEVENT
UID:5f646002-05ba-11f0-9c0c-0a58a9feac02
DTSTAMP:20250320T183727Z
SUMMARY:School Committee Policy Sub Committee Meeting - REMOTE MEETING ONLI
 NE
URL;VALUE=URI:https://www.norwood.k12.ma.us/sc/calendar/7731804/school-comm
 ittee-policy-sub-committee-meeting-remote-meeting-online-clone
DTSTART:20250324T200000Z
DTEND:20250324T210000Z
END:VEVENT
END:VCALENDAR
