BEGIN:VCALENDAR
VERSION:2.0
PRODID:SchoolNow
CALSCALE:GREGORIAN
BEGIN:VEVENT
UID:7914d01a-1486-11f0-a580-0a58a9feac02
DTSTAMP:20250408T143343Z
SUMMARY:School Committee Student Advisory Council - Norwood High School
URL;VALUE=URI:https://www.norwood.k12.ma.us/sc/calendar/7879557/school-comm
 ittee-student-advisory-committee-norwood-high-school-clone-clone-clone
DTSTART:20250410T142200Z
DTEND:20250410T151900Z
END:VEVENT
END:VCALENDAR
