BEGIN:VCALENDAR
VERSION:2.0
PRODID:SchoolNow
CALSCALE:GREGORIAN
BEGIN:VEVENT
UID:0bca009a-1a1a-11f0-892e-025980a734f5
DTSTAMP:20250415T165241Z
SUMMARY:School Committee Budget Sub Committee Meeting - REMOTE MEETING ONLI
 NE
URL;VALUE=URI:https://www.norwood.k12.ma.us/sc/calendar/7932557/school-comm
 ittee-budget-sub-committee-meeting-remote-meeting-online-clone
DTSTART:20250417T160000Z
DTEND:20250417T180000Z
END:VEVENT
END:VCALENDAR
