BEGIN:VCALENDAR
VERSION:2.0
PRODID:SchoolNow
CALSCALE:GREGORIAN
BEGIN:VEVENT
UID:58e8dafa-1f91-11f0-95af-0a58a9feac02
DTSTAMP:20250422T154917Z
SUMMARY:School Committee Policy Sub Committee Meeting - REMOTE MEETING ONLI
 NE
URL;VALUE=URI:https://www.norwood.k12.ma.us/sc/calendar/7983544/school-comm
 ittee-policy-sub-committee-meeting-remote-meeting-online-clone-clone
DTSTART:20250424T170000Z
DTEND:20250424T180000Z
END:VEVENT
END:VCALENDAR
