BEGIN:VCALENDAR
VERSION:2.0
PRODID:SchoolNow
CALSCALE:GREGORIAN
BEGIN:VEVENT
UID:608aa994-327b-11f0-9ec2-0a58a9feac02
DTSTAMP:20250516T172953Z
SUMMARY:School Committee Budget Sub Committee Meeting - REMOTE MEETING ONLI
 NE
URL;VALUE=URI:https://www.norwood.k12.ma.us/sc/calendar/8146827/school-comm
 ittee-budget-sub-committee-meeting-remote-meeting-online-clone-clone
DTSTART:20250520T173000Z
DTEND:20250520T190000Z
END:VEVENT
END:VCALENDAR
