BEGIN:VCALENDAR
VERSION:2.0
PRODID:SchoolNow
CALSCALE:GREGORIAN
BEGIN:VEVENT
UID:d02159e8-3d6f-11f0-899e-0a58a9feac02
DTSTAMP:20250603T164914Z
SUMMARY:CANCELLED-School Committee Budget Sub Committee Meeting - REMOTE ME
 ETING ONLINE
URL;VALUE=URI:https://www.norwood.k12.ma.us/sc/calendar/8226025/school-comm
 ittee-budget-sub-committee-meeting-remote-meeting-online-clone-clone-clone
DTSTART:20250603T140000Z
DTEND:20250603T160000Z
END:VEVENT
END:VCALENDAR
