BEGIN:VCALENDAR
VERSION:2.0
PRODID:SchoolNow
CALSCALE:GREGORIAN
BEGIN:VEVENT
UID:16d6cac4-461e-11f0-b1b7-02de2f7b37e7
DTSTAMP:20250610T171229Z
SUMMARY:School Committee Budget Sub Committee Meeting - REMOTE MEETING ONLI
 NE
URL;VALUE=URI:https://www.norwood.k12.ma.us/sc/calendar/8281796/school-comm
 ittee-budget-sub-committee-meeting-remote-meeting-online-clone-clone
DTSTART:20250612T170000Z
DTEND:20250612T190000Z
END:VEVENT
END:VCALENDAR
