BEGIN:VCALENDAR
VERSION:2.0
PRODID:SchoolNow
CALSCALE:GREGORIAN
BEGIN:VEVENT
UID:5e0e2f34-6966-11f0-9f6d-0a58a9feac02
DTSTAMP:20260409T124008Z
SUMMARY:School Committee Meeting - Public Hearing School Choice - Hybrid Me
 eting/In Person at Savage Center - see Schedule page for details
URL;VALUE=URI:https://www.norwood.k12.ma.us/sc/calendar/8445764/school-comm
 ittee-meeting-hybrid-meeting-in-person-at-savage-center-see-schedule-page-
 for-details-clone-clone-clone-clone-clone-clone-clone-clone-clone-clone-cl
 one-clone-clone-clone-clone-clone-clone-clone-clone-clone-clone-clone-clon
 e-clone-clone-clone-cl
DTSTART:20260506T230000Z
DTEND:20260507T000000Z
END:VEVENT
END:VCALENDAR
