BEGIN:VCALENDAR
VERSION:2.0
PRODID:SchoolNow
CALSCALE:GREGORIAN
BEGIN:VEVENT
UID:5102b55a-9097-11f0-b6f2-0e014a268f33
DTSTAMP:20250913T114642Z
SUMMARY:Norwood School Committee- Budget Subcommittee Meeting
URL;VALUE=URI:https://www.norwood.k12.ma.us/sc/calendar/8617890/norwood-sch
 ool-committee-budget-subcommittee-meeting
DTSTART:20250917T163000Z
DTEND:20250917T183000Z
END:VEVENT
END:VCALENDAR
