BEGIN:VCALENDAR
VERSION:2.0
PRODID:SchoolNow
CALSCALE:GREGORIAN
BEGIN:VEVENT
UID:3d446974-a5fe-11f0-8ec1-0e3a7013123f
DTSTAMP:20251010T172646Z
SUMMARY:School Committee Budget Sub Committee Meeting - REMOTE MEETING ONLI
 NE
URL;VALUE=URI:https://www.norwood.k12.ma.us/sc/calendar/8712170/school-comm
 ittee-budget-sub-committee-meeting-remote-meeting-online-clone-clone-clone
 -clone
DTSTART:20251014T163000Z
DTEND:20251014T183000Z
END:VEVENT
END:VCALENDAR
